Workbook

Sheet 20230101-20261006
A1: ReportDate | B1: SDC NAV | C1: S&P 500 Close
A2: 44925 | B2: 2533066.8 | C2: 3839.5
A3: 44928 | B3: 2533066.8
A4: 44929 | B4: 2537809.5 | C4: 3824.14
A5: 44930 | B5: 2544705.7 | C5: 3852.97
A6: 44931 | B6: 2540339.3 | C6: 3808.1
A7: 44932 | B7: 2543333 | C7: 3895.08
A8: 44935 | B8: 2540522.5 | C8: 3892.09
A9: 44936 | B9: 2544599.7 | C9: 3919.25
A10: 44937 | B10: 2547699.2 | C10: 3969.61
A11: 44938 | B11: 2549929 | C11: 3983.17
A12: 44939 | B12: 2547374.6 | C12: 3999.09
A13: 44942 | B13: 2547580
A14: 44943 | B14: 2552529.7 | C14: 3990.97
A15: 44944 | B15: 2552252.8 | C15: 3928.86
A16: 44945 | B16: 2558462.3 | C16: 3898.85
A17: 44946 | B17: 2551059.8 | C17: 3972.61
A18: 44949 | B18: 2560234.3 | C18: 4019.81
A19: 44950 | B19: 2580907.8 | C19: 4016.95
A20: 44951 | B20: 2585394.8 | C20: 4016.22
A21: 44952 | B21: 2583328.6 | C21: 4060.43
A22: 44953 | B22: 2583194 | C22: 4070.56
A23: 44956 | B23: 2580539.3 | C23: 4017.77
A24: 44957 | B24: 2586940.9 | C24: 4076.6
A25: 44958 | B25: 2589138.6 | C25: 4119.21
... A37: 44974 | B37: 2591223.7 | C37: 4079.09
A38: 44977 | B38: 2590952.1
A39: 44978 | B39: 2591861 | C39: 3997.34
A40: 44979 | B40: 2594339.8 | C40: 3991.05
A41: 44980 | B41: 2597643.6 | C41: 4012.32
A42: 44981 | B42: 2597973.3 | C42: 3970.04
A43: 44984 | B43: 2608857.7 | C43: 3982.24
A44: 44985 | B44: 2603608.4 | C44: 3970.15
A45: 44986 | B45: 2604752.1 | C45: 3951.39
A46: 44987 | B46: 2608769.1 | C46: 3981.35
A47: 44988 | B47: 2615883.1 | C47: 4045.64
A48: 44991 | B48: 2620090.8 | C48: 4048.42
A49: 44992 | B49: 2614823.2 | C49: 3986.37
A50: 44993 | B50: 2619003.6 | C50: 3992.01
... A71: 45022 | B71: 2594976.1 | C71: 4105.02
...

Sheet 2026 Performance Summary
A1: SPX Defensive Carry (SDC) — 2026 Mature-Regime Performance
A3: Methodology / Assumptions
A4: Analysis start | B4: 46055 | D4: First available observation on/after 2026-02-01
A5: Analysis end | B5: 46300 | D5: Last observation in uploaded workbook
A6: Annualization | B6: 252 | C6: trading days
A7: Risk-free rate | B7: 0 | D7: Sharpe and alpha use 0% risk-free rate
A8: Stop-loss mandate | B8: -0.1 | D8: Portfolio risk limit used in the comparison
A10: Portfolio Performance Statistics
A11: Metric | B11: SDC | C11: S&P 500 | D11: Notes
A12: Observations | B12: =COUNT('2026 Analysis Data'!$D$3:$D$177) -> 175 | C12: =COUNT('2026 Analysis Data'!$U$2:$U$170) -> 169 | D12: Return observations used
A13: Total Return | B13: ='2026 Analysis Data'!E177 -> 0.10024137 | C13: ='2026 Analysis Data'!I177 -> 0.11431475 | D13: Compounded return from 2026-02-02
A14: CAGR | B14: =(1+B13)^(365.25/($B$5-$B$4))-1 -> 0.15305745 | C14: =(1+C13)^(365.25/($B$5-$B$4))-1 -> 0.17511431 | D14: Geometric annualized return
A15: Annualized Arithmetic Return | B15: =AVERAGE('2026 Analysis Data'!$D$3:$D$177)*$B$6 -> 0.13808371 | C15: =AVERAGE('2026 Analysis Data'!$U$2:$U$170)*$B$6 -> 0.17040091 | D15: Average daily return × 252
A16: Annualized Volatility | B16: =STDEV('2026 Analysis Data'!$D$3:$D$177)*SQRT($B$6) -> 0.031155237 | C16: =STDEV('2026 Analysis Data'!$U$2:$U$170)*SQRT($B$6) -> 0.1342651 | D16: Daily standard deviation × √252
A17: Sharpe Ratio (Rf=0%) | B17: =(B15-$B$7)/B16 -> 4.4321186 | C17: =(C15-$B$7)/C16 -> 1.2691378 | D17: Annualized arithmetic return / annualized volatility
A18: Sortino Ratio (MAR=0%) | B18: =B15/B19 -> 6.2917369 | C18: =C15/C19 -> 1.9426107 | D18: Annualized return / downside deviation
A19: Downside Deviation (Ann.) | B19: =SQRT(AVERAGE('2026 Analysis Data'!$P$3:$P$177))*SQRT($B$6) -> 0.021946835 | C19: =SQRT(AVERAGE('2026 Analysis Data'!$V$2:$V$170))*SQRT($B$6) -> 0.087717476 | D19: Annualized downside deviation
A20: Max Drawdown | B20: =MIN('2026 Analysis Data'!$G$2:$G$177) -> -0.020101227 | C20: =MIN('2026 Analysis Data'!$K$2:$K$177) -> -0.090693821 | D20: Largest observed peak-to-trough loss
A21: Calmar Ratio | B21: =B14/ABS(B20) -> 7.6143336 | C21: =C14/ABS(C20) -> 1.9308295 | D21: CAGR ÷ |Max Drawdown|
A22: Ulcer Index | B22: =SQRT(SUMSQ('2026 Analysis Data'!$G$2:$G$177)/COUNT('2026 Analysis Data'!$G$2:$G$177)) -> 0.0080088499 | C22: =SQRT(SUMSQ('2026 Analysis Data'!$K$2:$K$177)/COUNT('2026 Analysis Data'!$K$2:$K$177)) -> 0.024914767 | D22: RMS drawdown; lower is better
A23: Martin Ratio | B23: =B14/B22 -> 19.11104 | C23: =C14/C22 -> 7.0285348 | D23: CAGR ÷ Ulcer Index
A24: Pain Index | B24: =-AVERAGE('2026 Analysis Data'!$G$2:$G$177) -> 0.0042008959 | C24: =-AVERAGE('2026 Analysis Data'!$K$2:$K$177) -> 0.017744567 | D24: Average drawdown depth
A25: Pain Ratio | B25: =B14/B24 -> 36.434477 | C25: =C14/C24 -> 9.8686157 | D25: CAGR ÷ Pain Index
A26: Average Daily Return | B26: =AVERAGE('2026 Analysis Data'!$D$3:$D$177) -> 0.00054795122 | C26: =AVERAGE('2026 Analysis Data'!$U$2:$U$170) -> 0.00067619408
A27: Median Daily Return | B27: =MEDIAN('2026 Analysis Data'!$D$3:$D$177) -> 0.00046311882 | C27: =MEDIAN('2026 Analysis Data'!$U$2:$U$170) -> 0.00016190006
A28: Best Daily Return | B28: =MAX('2026 Analysis Data'!$D$3:$D$177) -> 0.0073157945 | C28: =MAX('2026 Analysis Data'!$U$2:$U$170) -> 0.029131172
A29: Worst Daily Return | B29: =MIN('2026 Analysis Data'!$D$3:$D$177) -> -0.012290904 | C29: =MIN('2026 Analysis Data'!$U$2:$U$170) -> -0.026445385
A30: Positive Days % | B30: =COUNTIF('2026 Analysis Data'!$D$3:$D$177,">0")/COUNT('2026 Analysis Data'!$D$3:$D$177) -> 0.72571429 | C30: =COUNTIF('2026 Analysis Data'!$U$2:$U$170,">0")/COUNT('2026 Analysis Data'!$U$2:$U$170) -> 0.50887574
A31: Negative Days % | B31: =COUNTIF('2026 Analysis Data'!$D$3:$D$177,"<0")/COUNT('2026 Analysis Data'!$D$3:$D$177) -> 0.26857143 | C31: =COUNTIF('2026 Analysis Data'!$U$2:$U$170,"<0")/COUNT('2026 Analysis Data'!$U$2:$U$170) -> 0.49112426
A32: Avg Up Day | B32: =AVERAGEIF('2026 Analysis Data'!$D$3:$D$177,">0",'2026 Analysis Data'!$D$3:$D$177) -> 0.0013167632 | C32: =AVERAGEIF('2026 Analysis Data'!$U$2:$U$170,">0",'2026 Analysis Data'!$U$2:$U$170) -> 0.0070810978
A33: Avg Down Day | B33: =AVERAGEIF('2026 Analysis Data'!$D$3:$D$177,"<0",'2026 Analysis Data'!$D$3:$D$177) -> -0.0015178183 | C33: =AVERAGEIF('2026 Analysis Data'!$U$2:$U$170,"<0",'2026 Analysis Data'!$U$2:$U$170) -> -0.0059602122
A34: Gain/Loss Ratio | B34: =B32/ABS(B33) -> 0.86753677 | C34: =C32/ABS(C33) -> 1.1880614 | D34: Average gain ÷ average loss magnitude
A35: Profit Factor | B35: =SUMIF('2026 Analysis Data'!$D$3:$D$177,">0",'2026 Analysis Data'!$D$3:$D$177)/ABS(SUMIF('2026 Analysis Data'!$D$3:$D$177,"<0",'2026 Analysis Data'!$D$3:$D$177)) -> 2.3441951 | C35: =SUMIF('2026 Analysis Data'!$U$2:$U$170,">0",'2026 Analysis Data'!$U$2:$U$170)/ABS(SUMIF('2026 Analysis Data'!$U$2:$U$170,"<0",'2026 Analysis Data'!$U$2:$U$170)) -> 1.2310033 | D35: Sum of gains ÷ sum of losses
A36: Skewness | B36: =SKEW('2026 Analysis Data'!$D$3:$D$177) -> -2.0089044 | C36: =SKEW('2026 Analysis Data'!$U$2:$U$170) -> 0.095009407
A37: Excess Kurtosis | B37: =KURT('2026 Analysis Data'!$D$3:$D$177) -> 12.038133 | C37: =KURT('2026 Analysis Data'!$U$2:$U$170) -> 0.78638679
A38: Historical VaR 95% (Daily) | B38: =-PERCENTILE('2026 Analysis Data'!$D$3:$D$177,0.05) -> 0.002363938 | C38: =-PERCENTILE('2026 Analysis Data'!$U$2:$U$170,0.05) -> 0.014060713
A39: Historical CVaR 95% (Daily) | B39: =-AVERAGEIF('2026 Analysis Data'!$D$3:$D$177,"<="&PERCENTILE('2026 Analysis Data'!$D$3:$D$177,0.05),'2026 Analysis Data'!$D$3:$D$177) -> 0.0049103044 | C39: =-AVERAGEIF('2026 Analysis Data'!$U$2:$U$170,"<="&PERCENTILE('2026 Analysis Data'!$U$2:$U$170,0.05),'2026 Analysis Data'!$U$2:$U$170) -> 0.016924869
A40: Historical VaR 99% (Daily) | B40: =-PERCENTILE('2026 Analysis Data'!$D$3:$D$177,0.01) -> 0.0059053589 | C40: =-PERCENTILE('2026 Analysis Data'!$U$2:$U$170,0.01) -> 0.016940835
A41: Historical CVaR 99% (Daily) | B41: =-AVERAGEIF('2026 Analysis Data'!$D$3:$D$177,"<="&PERCENTILE('2026 Analysis Data'!$D$3:$D$177,0.01),'2026 Analysis Data'!$D$3:$D$177) -> 0.0099967407 | C41: =-AVERAGEIF('2026 Analysis Data'!$U$2:$U$170,"<="&PERCENTILE('2026 Analysis Data'!$U$2:$U$170,0.01),'2026 Analysis Data'!$U$2:$U$170) -> 0.021925798
A42: Tail Ratio (95/5) | B42: =PERCENTILE('2026 Analysis Data'!$D$3:$D$177,0.95)/ABS(PERCENTILE('2026 Analysis Data'!$D$3:$D$177,0.05)) -> 1.298052 | C42: =PERCENTILE('2026 Analysis Data'!$U$2:$U$170,0.95)/ABS(PERCENTILE('2026 Analysis Data'!$U$2:$U$170,0.05)) -> 1.0461704
...

Sheet 2026 Analysis Data
A1: ReportDate | B1: SDC NAV | C1: S&P 500 Close | D1: SDC Daily Return | E1: SDC Cumulative Return | F1: SDC Running Peak | G1: SDC Drawdown | H1: S&P 500 Daily Return | I1: S&P 500 Cumulative Return | J1: S&P Running Peak | K1: S&P Drawdown | L1: Matched SDC Return | M1: Matched S&P Return | N1: Active Return | O1: Cumulative Active Return | P1: SDC Downside Sq. | Q1: S&P Downside Sq. | R1: -10% Stop-Loss | S1: SDC 20-Obs Vol. | T1: S&P 20-Obs Vol. | U1: S&P Return Sample | V1: S&P Downside Sq. Sample
A2: =IF('20230101-20261006'!A811="","",'20230101-20261006'!A811) -> 46055 | B2: =IF('20230101-20261006'!B811="","",'20230101-20261006'!B811) -> 5213590.3 | C2: =IF('20230101-20261006'!C811="","",'20230101-20261006'!C811) -> 6976.44 | D2: ="" | E2: =0 -> 0 | F2: =0 -> 0 | G2: =0 -> 0 | H2: ="" | I2: =0 -> 0 | J2: =0 -> 0 | K2: =0 -> 0 | L2: ="" | M2: ="" | N2: ="" | O2: =0 -> 0 | P2: ="" | Q2: ="" | R2: =-10% -> -0.1 | S2: ="" | T2: ="" | U2: =H3 -> -0.0084039997 | V2: =MIN(U2,0)^2 -> 7.0627212e-05
A3: =IF('20230101-20261006'!A812="","",'20230101-20261006'!A812) -> 46056 | B3: =IF('20230101-20261006'!B812="","",'20230101-20261006'!B812) -> 5207013.5 | C3: =IF('20230101-20261006'!C812="","",'20230101-20261006'!C812) -> 6917.81 | D3: =IF(OR(B3="",B2=""),"",B3/B2-1) -> -0.0012614655 | E3: =IF(D3="",E2,(1+E2)*(1+D3)-1) -> -0.0012614655 | F3: =MAX(F2,E3) -> 0 | G3: =(1+E3)/(1+F3)-1 -> -0.0012614655 | H3: =C3/C2-1 -> -0.0084039997 | I3: =IF(H3="",I2,(1+I2)*(1+H3)-1) -> -0.0084039997 | J3: =MAX(J2,I3) -> 0 | K3: =(1+I3)/(1+J3)-1 -> -0.0084039997 | L3: =B3/B2-1 -> -0.0012614655 | M3: =H3 -> -0.0084039997 | N3: =L3-M3 -> 0.0071425343 | O3: =IF(N3="",O2,(1+O2)*(1+N3)-1) -> 0.0071425343 | P3: =MIN(D3,0)^2 -> 1.5912952e-06 | Q3: =IF(H3="","",MIN(H3,0)^2) -> 7.0627212e-05 | R3: =-10% -> -0.1 | S3: ="" | T3: ="" | U3: =H4 -> -0.0050724145 | V3: =MIN(U3,0)^2 -> 2.5729389e-05
A4: =IF('20230101-20261006'!A813="","",'20230101-20261006'!A813) -> 46057 | B4: =IF('20230101-20261006'!B813="","",'20230101-20261006'!B813) -> 5197203.6 | C4: =IF('20230101-20261006'!C813="","",'20230101-20261006'!C813) -> 6882.72 | D4: =IF(OR(B4="",B3=""),"",B4/B3-1) -> -0.0018839823 | E4: =IF(D4="",E3,(1+E3)*(1+D4)-1) -> -0.0031430712 | F4: =MAX(F3,E4) -> 0 | G4: =(1+E4)/(1+F4)-1 -> -0.0031430712 | H4: =C4/C3-1 -> -0.0050724145 | I4: =IF(H4="",I3,(1+I3)*(1+H4)-1) -> -0.013433786 | J4: =MAX(J3,I4) -> 0 | K4: =(1+I4)/(1+J4)-1 -> -0.013433786 | L4: =B4/B3-1 -> -0.0018839823 | M4: =H4 -> -0.0050724145 | N4: =L4-M4 -> 0.0031884323 | O4: =IF(N4="",O3,(1+O3)*(1+N4)-1) -> 0.01035374 | P4: =MIN(D4,0)^2 -> 3.5493892e-06 | Q4: =IF(H4="","",MIN(H4,0)^2) -> 2.5729389e-05 | R4: =-10% -> -0.1 | S4: ="" | T4: ="" | U4: =H5 -> -0.012250971 | V4: =MIN(U4,0)^2 -> 0.00015008628
A5: =IF('20230101-20261006'!A814="","",'20230101-20261006'!A814) -> 46058 | B5: =IF('20230101-20261006'!B814="","",'20230101-20261006'!B814) -> 5214746.4 | C5: =IF('20230101-20261006'!C814="","",'20230101-20261006'!C814) -> 6798.4 | D5: =IF(OR(B5="",B4=""),"",B5/B4-1) -> 0.0033754228 | E5: =IF(D5="",E4,(1+E4)*(1+D5)-1) -> 0.00022174241 | F5: =MAX(F4,E5) -> 0.00022174241 | G5: =(1+E5)/(1+F5)-1 -> 0 | H5: =C5/C4-1 -> -0.012250971 | I5: =IF(H5="",I4,(1+I4)*(1+H5)-1) -> -0.025520179 | J5: =MAX(J4,I5) -> 0 | K5: =(1+I5)/(1+J5)-1 -> -0.025520179 | L5: =B5/B4-1 -> 0.0033754228 | M5: =H5 -> -0.012250971 | N5: =L5-M5 -> 0.015626393 | O5: =IF(N5="",O4,(1+O4)*(1+N5)-1) -> 0.026141925 | P5: =MIN(D5,0)^2 -> 0 | Q5: =IF(H5="","",MIN(H5,0)^2) -> 0.00015008628 | R5: =-10% -> -0.1 | S5: ="" | T5: ="" | U5: =H6 -> 0.019695811 | V5: =MIN(U5,0)^2 -> 0
A6: =IF('20230101-20261006'!A815="","",'20230101-20261006'!A815) -> 46059 | B6: =IF('20230101-20261006'!B815="","",'20230101-20261006'!B815) -> 5197558.6 | C6: =IF('20230101-20261006'!C815="","",'20230101-20261006'!C815) -> 6932.3 | D6: =IF(OR(B6="",B5=""),"",B6/B5-1) -> -0.003295987 | E6: =IF(D6="",E5,(1+E5)*(1+D6)-1) -> -0.0030749754 | F6: =MAX(F5,E6) -> 0.00022174241 | G6: =(1+E6)/(1+F6)-1 -> -0.003295987 | H6: =C6/C5-1 -> 0.019695811 | I6: =IF(H6="",I5,(1+I5)*(1+H6)-1) -> -0.0063270092 | J6: =MAX(J5,I6) -> 0 | K6: =(1+I6)/(1+J6)-1 -> -0.0063270092 | L6: =B6/B5-1 -> -0.003295987 | M6: =H6 -> 0.019695811 | N6: =L6-M6 -> -0.022991798 | O6: =IF(N6="",O5,(1+O5)*(1+N6)-1) -> 0.0025490774 | P6: =MIN(D6,0)^2 -> 1.086353e-05 | Q6: =IF(H6="","",MIN(H6,0)^2) -> 0 | R6: =-10% -> -0.1 | S6: ="" | T6: ="" | U6: =H7 -> 0.0046910838 | V6: =MIN(U6,0)^2 -> 0
A7: =IF('20230101-20261006'!A816="","",'20230101-20261006'!A816) -> 46062 | B7: =IF('20230101-20261006'!B816="","",'20230101-20261006'!B816) -> 5201833.6 | C7: =IF('20230101-20261006'!C816="","",'20230101-20261006'!C816) -> 6964.82 | D7: =IF(OR(B7="",B6=""),"",B7/B6-1) -> 0.00082248803 | E7: =IF(D7="",E6,(1+E6)*(1+D7)-1) -> -0.0022550165 | F7: =MAX(F6,E7) -> 0.00022174241 | G7: =(1+E7)/(1+F7)-1 -> -0.0024762099 | H7: =C7/C6-1 -> 0.0046910838 | I7: =IF(H7="",I6,(1+I6)*(1+H7)-1) -> -0.001665606 | J7: =MAX(J6,I7) -> 0 | K7: =(1+I7)/(1+J7)-1 -> -0.001665606 | L7: =B7/B6-1 -> 0.00082248803 | M7: =H7 -> 0.0046910838 | N7: =L7-M7 -> -0.0038685957 | O7: =IF(N7="",O6,(1+O6)*(1+N7)-1) -> -0.0013293797 | P7: =MIN(D7,0)^2 -> 0 | Q7: =IF(H7="","",MIN(H7,0)^2) -> 0 | R7: =-10% -> -0.1 | S7: ="" | T7: ="" | U7: =H8 -> -0.0033037465 | V7: =MIN(U7,0)^2 -> 1.0914741e-05
A8: =IF('20230101-20261006'!A817="","",'20230101-20261006'!A817) -> 46063 | B8: =IF('20230101-20261006'!B817="","",'20230101-20261006'!B817) -> 5203773 | C8: =IF('20230101-20261006'!C817="","",'20230101-20261006'!C817) -> 6941.81 | D8: =IF(OR(B8="",B7=""),"",B8/B7-1) -> 0.00037284364 | E8: =IF(D8="",E7,(1+E7)*(1+D8)-1) -> -0.0018830136 | F8: =MAX(F7,E8) -> 0.00022174241 | G8: =(1+E8)/(1+F8)-1 -> -0.0021042895 | H8: =C8/C7-1 -> -0.0033037465 | I8: =IF(H8="",I7,(1+I7)*(1+H8)-1) -> -0.0049638498 | J8: =MAX(J7,I8) -> 0 | K8: =(1+I8)/(1+J8)-1 -> -0.0049638498 | L8: =B8/B7-1 -> 0.00037284364 | M8: =H8 -> -0.0033037465 | N8: =L8-M8 -> 0.0036765902 | O8: =IF(N8="",O7,(1+O7)*(1+N8)-1) -> 0.0023423229 | P8: =MIN(D8,0)^2 -> 0 | Q8: =IF(H8="","",MIN(H8,0)^2) -> 1.0914741e-05 | R8: =-10% -> -0.1 | S8: ="" | T8: ="" | U8: =H9 -> -4.8978581e-05 | V8: =MIN(U8,0)^2 -> 2.3989013e-09
A9: =IF('20230101-20261006'!A818="","",'20230101-20261006'!A818) -> 46064 | B9: =IF('20230101-20261006'!B818="","",'20230101-20261006'!B818) -> 5220374.3 | C9: =IF('20230101-20261006'!C818="","",'20230101-20261006'!C818) -> 6941.47 | D9: =IF(OR(B9="",B8=""),"",B9/B8-1) -> 0.00319024 | E9: =IF(D9="",E8,(1+E8)*(1+D9)-1) -> 0.0013012191 | F9: =MAX(F8,E9) -> 0.0013012191 | G9: =(1+E9)/(1+F9)-1 -> 0 | H9: =C9/C8-1 -> -4.8978581e-05 | I9: =IF(H9="",I8,(1+I8)*(1+H9)-1) -> -0.0050125852 | J9: =MAX(J8,I9) -> 0 | K9: =(1+I9)/(1+J9)-1 -> -0.0050125852 | L9: =B9/B8-1 -> 0.00319024 | M9: =H9 -> -4.8978581e-05 | N9: =L9-M9 -> 0.0032392186 | O9: =IF(N9="",O8,(1+O8)*(1+N9)-1) -> 0.0055891288 | P9: =MIN(D9,0)^2 -> 0 | Q9: =IF(H9="","",MIN(H9,0)^2) -> 2.3989013e-09 | R9: =-10% -> -0.1 | S9: ="" | T9: ="" | U9: =H10 -> -0.015660948 | V9: =MIN(U9,0)^2 -> 0.00024526529
A10: =IF('20230101-20261006'!A819="","",'20230101-20261006'!A819) -> 46065 | B10: =IF('20230101-20261006'!B819="","",'20230101-20261006'!B819) -> 5216469.1 | C10: =IF('20230101-20261006'!C819="","",'20230101-20261006'!C819) -> 6832.76 | D10: =IF(OR(B10="",B9=""),"",B10/B9-1) -> -0.00074807033 | E10: =IF(D10="",E9,(1+E9)*(1+D10)-1) -> 0.00055217539 | F10: =MAX(F9,E10) -> 0.0013012191 | G10: =(1+E10)/(1+F10)-1 -> -0.00074807033 | H10: =C10/C9-1 -> -0.015660948 | I10: =IF(H10="",I9,(1+I9)*(1+H10)-1) -> -0.020595031 | J10: =MAX(J9,I10) -> 0 | K10: =(1+I10)/(1+J10)-1 -> -0.020595031 | L10: =B10/B9-1 -> -0.00074807033 | M10: =H10 -> -0.015660948 | N10: =L10-M10 -> 0.014912878 | O10: =IF(N10="",O9,(1+O9)*(1+N10)-1) -> 0.020585356 | P10: =MIN(D10,0)^2 -> 5.5960922e-07 | Q10: =IF(H10="","",MIN(H10,0)^2) -> 0.00024526529 | R10: =-10% -> -0.1 | S10: ="" | T10: ="" | U10: =H11 -> 0.00049906626 | V10: =MIN(U10,0)^2 -> 0
A11: =IF('20230101-20261006'!A820="","",'20230101-20261006'!A820) -> 46066 | B11: =IF('20230101-20261006'!B820="","",'20230101-20261006'!B820) -> 5224655.7 | C11: =IF('20230101-20261006'!C820="","",'20230101-20261006'!C820) -> 6836.17 | D11: =IF(OR(B11="",B10=""),"",B11/B10-1) -> 0.0015693635 | E11: =IF(D11="",E10,(1+E10)*(1+D11)-1) -> 0.0021224055 | F11: =MAX(F10,E11) -> 0.0021224055 | G11: =(1+E11)/(1+F11)-1 -> 0 | H11: =C11/C10-1 -> 0.00049906626 | I11: =IF(H11="",I10,(1+I10)*(1+H11)-1) -> -0.020106243 | J11: =MAX(J10,I11) -> 0 | K11: =(1+I11)/(1+J11)-1 -> -0.020106243 | L11: =B11/B10-1 -> 0.0015693635 | M11: =H11 -> 0.00049906626 | N11: =L11-M11 -> 0.0010702972 | O11: =IF(N11="",O10,(1+O10)*(1+N11)-1) -> 0.021677686 | P11: =MIN(D11,0)^2 -> 0 | Q11: =IF(H11="","",MIN(H11,0)^2) -> 0 | R11: =-10% -> -0.1 | S11: ="" | T11: ="" | U11: =H13 -> 0.0010312792 | V11: =MIN(U11,0)^2 -> 0
A12: =IF('20230101-20261006'!A821="","",'20230101-20261006'!A821) -> 46069 | B12: =IF('20230101-20261006'!B821="","",'20230101-20261006'!B821) -> 5224655.6 | C12: =IF('20230101-20261006'!C821="","",'20230101-20261006'!C821) | D12: =IF(OR(B12="",B11=""),"",B12/B11-1) -> -4.2844336e-09 | E12: =IF(D12="",E11,(1+E11)*(1+D12)-1) -> 0.0021224012 | F12: =MAX(F11,E12) -> 0.0021224055 | G12: =(1+E12)/(1+F12)-1 -> -4.2844336e-09 | H12: ="" | I12: =IF(H12="",I11,(1+I11)*(1+H12)-1) -> -0.020106243 | J12: =MAX(J11,I12) -> 0 | K12: =(1+I12)/(1+J12)-1 -> -0.020106243 | L12: ="" | M12: ="" | N12: ="" | O12: =IF(N12="",O11,(1+O11)*(1+N12)-1) -> 0.021677686 | P12: =MIN(D12,0)^2 -> 1.8356371e-17 | Q12: =IF(H12="","",MIN(H12,0)^2) | R12: =-10% -> -0.1 | S12: ="" | T12: ="" | U12: =H14 -> 0.0055660932 | V12: =MIN(U12,0)^2 -> 0
A13: =IF('20230101-20261006'!A822="","",'20230101-20261006'!A822) -> 46070 | B13: =IF('20230101-20261006'!B822="","",'20230101-20261006'!B822) -> 5225973.2 | C13: =IF('20230101-20261006'!C822="","",'20230101-20261006'!C822) -> 6843.22 | D13: =IF(OR(B13="",B12=""),"",B13/B12-1) -> 0.00025218935 | E13: =IF(D13="",E12,(1+E12)*(1+D13)-1) -> 0.0023751258 | F13: =MAX(F12,E13) -> 0.0023751258 | G13: =(1+E13)/(1+F13)-1 -> 0 | H13: =C13/C11-1 -> 0.0010312792 | I13: =IF(H13="",I12,(1+I12)*(1+H13)-1) -> -0.019095699 | J13: =MAX(J12,I13) -> 0 | K13: =(1+I13)/(1+J13)-1 -> -0.019095699 | L13: =B13/B11-1 -> 0.00025218506 | M13: =H13 -> 0.0010312792 | N13: =L13-M13 -> -0.00077909415 | O13: =IF(N13="",O12,(1+O12)*(1+N13)-1) -> 0.020881703 | P13: =MIN(D13,0)^2 -> 0 | Q13: =IF(H13="","",MIN(H13,0)^2) -> 0 | R13: =-10% -> -0.1 | S13: ="" | T13: ="" | U13: =H15 -> -0.0028221371 | V13: =MIN(U13,0)^2 -> 7.9644576e-06
A14: =IF('20230101-20261006'!A823="","",'20230101-20261006'!A823) -> 46071 | B14: =IF('20230101-20261006'!B823="","",'20230101-20261006'!B823) -> 5232075.8 | C14: =IF('20230101-20261006'!C823="","",'20230101-20261006'!C823) -> 6881.31 | D14: =IF(OR(B14="",B13=""),"",B14/B13-1) -> 0.0011677275 | E14: =IF(D14="",E13,(1+E13)*(1+D14)-1) -> 0.0035456268 | F14: =MAX(F13,E14) -> 0.0035456268 | G14: =(1+E14)/(1+F14)-1 -> 0 | H14: =C14/C13-1 -> 0.0055660932 | I14: =IF(H14="",I13,(1+I13)*(1+H14)-1) -> -0.013635895 | J14: =MAX(J13,I14) -> 0 | K14: =(1+I14)/(1+J14)-1 -> -0.013635895 | L14: =B14/B13-1 -> 0.0011677275 | M14: =H14 -> 0.0055660932 | N14: =L14-M14 -> -0.0043983656 | O14: =IF(N14="",O13,(1+O13)*(1+N14)-1) -> 0.016391492 | P14: =MIN(D14,0)^2 -> 0 | Q14: =IF(H14="","",MIN(H14,0)^2) -> 0 | R14: =-10% -> -0.1 | S14: ="" | T14: ="" | U14: =H16 -> 0.006939779 | V14: =MIN(U14,0)^2 -> 0
A15: =IF('20230101-20261006'!A824="","",'20230101-20261006'!A824) -> 46072 | B15: =IF('20230101-20261006'!B824="","",'20230101-20261006'!B824) -> 5237176.9 | C15: =IF('20230101-20261006'!C824="","",'20230101-20261006'!C824) -> 6861.89 | D15: =IF(OR(B15="",B14=""),"",B15/B14-1) -> 0.00097496605 | E15: =IF(D15="",E14,(1+E14)*(1+D15)-1) -> 0.0045240497 | F15: =MAX(F14,E15) -> 0.0045240497 | G15: =(1+E15)/(1+F15)-1 -> 0 | H15: =C15/C14-1 -> -0.0028221371 | I15: =IF(H15="",I14,(1+I14)*(1+H15)-1) -> -0.016419549 | J15: =MAX(J14,I15) -> 0 | K15: =(1+I15)/(1+J15)-1 -> -0.016419549 | L15: =B15/B14-1 -> 0.00097496605 | M15: =H15 -> -0.0028221371 | N15: =L15-M15 -> 0.0037971031 | O15: =IF(N15="",O14,(1+O14)*(1+N15)-1) -> 0.020250835 | P15: =MIN(D15,0)^2 -> 0 | Q15: =IF(H15="","",MIN(H15,0)^2) -> 7.9644576e-06 | R15: =-10% -> -0.1 | S15: ="" | T15: ="" | U15: =H17 -> -0.010385686 | V15: =MIN(U15,0)^2 -> 0.00010786247
A16: =IF('20230101-20261006'!A825="","",'20230101-20261006'!A825) -> 46073 | B16: =IF('20230101-20261006'!B825="","",'20230101-20261006'!B825) -> 5237280.5 | C16: =IF('20230101-20261006'!C825="","",'20230101-20261006'!C825) -> 6909.51 | D16: =IF(OR(B16="",B15=""),"",B16/B15-1) -> 1.9782105e-05 | E16: =IF(D16="",E15,(1+E15)*(1+D16)-1) -> 0.0045439213 | F16: =MAX(F15,E16) -> 0.0045439213 | G16: =(1+E16)/(1+F16)-1 -> 0 | H16: =C16/C15-1 -> 0.006939779 | I16: =IF(H16="",I15,(1+I15)*(1+H16)-1) -> -0.0095937183 | J16: =MAX(J15,I16) -> 0 | K16: =(1+I16)/(1+J16)-1 -> -0.0095937183 | L16: =B16/B15-1 -> 1.9782105e-05 | M16: =H16 -> 0.006939779 | N16: =L16-M16 -> -0.0069199969 | O16: =IF(N16="",O15,(1+O15)*(1+N16)-1) -> 0.013190703 | P16: =MIN(D16,0)^2 -> 0 | Q16: =IF(H16="","",MIN(H16,0)^2) -> 0 | R16: =-10% -> -0.1 | S16: ="" | T16: ="" | U16: =H18 -> 0.0076516398 | V16: =MIN(U16,0)^2 -> 0
A17: =IF('20230101-20261006'!A826="","",'20230101-20261006'!A826) -> 46076 | B17: =IF('20230101-20261006'!B826="","",'20230101-20261006'!B826) -> 5246952 | C17: =IF('20230101-20261006'!C826="","",'20230101-20261006'!C826) -> 6837.75 | D17: =IF(OR(B17="",B16=""),"",B17/B16-1) -> 0.0018466792 | E17: =IF(D17="",E16,(1+E16)*(1+D17)-1) -> 0.0063989916 | F17: =MAX(F16,E17) -> 0.0063989916 | G17: =(1+E17)/(1+F17)-1 -> 0 | H17: =C17/C16-1 -> -0.010385686 | I17: =IF(H17="",I16,(1+I16)*(1+H17)-1) -> -0.019879767 | J17: =MAX(J16,I17) -> 0 | K17: =(1+I17)/(1+J17)-1 -> -0.019879767 | L17: =B17/B16-1 -> 0.0018466792 | M17: =H17 -> -0.010385686 | N17: =L17-M17 -> 0.012232365 | O17: =IF(N17="",O16,(1+O16)*(1+N17)-1) -> 0.025584421 | P17: =MIN(D17,0)^2 -> 0 | Q17: =IF(H17="","",MIN(H17,0)^2) -> 0.00010786247 | R17: =-10% -> -0.1 | S17: ="" | T17: ="" | U17: =H19 -> 0.0081363469 | V17: =MIN(U17,0)^2 -> 0
A18: =IF('20230101-20261006'!A827="","",'20230101-20261006'!A827) -> 46077 | B18: =IF('20230101-20261006'!B827="","",'20230101-20261006'!B827) -> 5252513.5 | C18: =IF('20230101-20261006'!C827="","",'20230101-20261006'!C827) -> 6890.07 | D18: =IF(OR(B18="",B17=""),"",B18/B17-1) -> 0.001059949 | E18: =IF(D18="",E17,(1+E17)*(1+D18)-1) -> 0.0074657233 | F18: =MAX(F17,E18) -> 0.0074657233 | G18: =(1+E18)/(1+F18)-1 -> 0 | H18: =C18/C17-1 -> 0.0076516398 | I18: =IF(H18="",I17,(1+I17)*(1+H18)-1) -> -0.01238024 | J18: =MAX(J17,I18) -> 0 | K18: =(1+I18)/(1+J18)-1 -> -0.01238024 | L18: =B18/B17-1 -> 0.001059949 | M18: =H18 -> 0.0076516398 | N18: =L18-M18 -> -0.0065916907 | O18: =IF(N18="",O17,(1+O17)*(1+N18)-1) -> 0.018824086 | P18: =MIN(D18,0)^2 -> 0 | Q18: =IF(H18="","",MIN(H18,0)^2) -> 0 | R18: =-10% -> -0.1 | S18: ="" | T18: ="" | U18: =H20 -> -0.0053655777 | V18: =MIN(U18,0)^2 -> 2.8789424e-05
A19: =IF('20230101-20261006'!A828="","",'20230101-20261006'!A828) -> 46078 | B19: =IF('20230101-20261006'!B828="","",'20230101-20261006'!B828) -> 5250856.9 | C19: =IF('20230101-20261006'!C828="","",'20230101-20261006'!C828) -> 6946.13 | D19: =IF(OR(B19="",B18=""),"",B19/B18-1) -> -0.00031540081 | E19: =IF(D19="",E18,(1+E18)*(1+D19)-1) -> 0.0071479678 | F19: =MAX(F18,E19) -> 0.0074657233 | G19: =(1+E19)/(1+F19)-1 -> -0.00031540081 | H19: =C19/C18-1 -> 0.0081363469 | I19: =IF(H19="",I18,(1+I18)*(1+H19)-1) -> -0.0043446228 | J19: =MAX(J18,I19) -> 0 | K19: =(1+I19)/(1+J19)-1 -> -0.0043446228 | L19: =B19/B18-1 -> -0.00031540081 | M19: =H19 -> 0.0081363469 | N19: =L19-M19 -> -0.0084517478 | O19: =IF(N19="",O18,(1+O18)*(1+N19)-1) -> 0.010213242 | P19: =MIN(D19,0)^2 -> 9.9477673e-08 | Q19: =IF(H19="","",MIN(H19,0)^2) -> 0 | R19: =-10% -> -0.1 | S19: ="" | T19: ="" | U19: =H21 -> -0.0043393556 | V19: =MIN(U19,0)^2 -> 1.8830007e-05
A20: =IF('20230101-20261006'!A829="","",'20230101-20261006'!A829) -> 46079 | B20: =IF('20230101-20261006'!B829="","",'20230101-20261006'!B829) -> 5250760.1 | C20: =IF('20230101-20261006'!C829="","",'20230101-20261006'!C829) -> 6908.86 | D20: =IF(OR(B20="",B19=""),"",B20/B19-1) -> -1.8431863e-05 | E20: =IF(D20="",E19,(1+E19)*(1+D20)-1) -> 0.0071294041 | F20: =MAX(F19,E20) -> 0.0074657233 | G20: =(1+E20)/(1+F20)-1 -> -0.00033382686 | H20: =C20/C19-1 -> -0.0053655777 | I20: =IF(H20="",I19,(1+I19)*(1+H20)-1) -> -0.009686889 | J20: =MAX(J19,I20) -> 0 | K20: =(1+I20)/(1+J20)-1 -> -0.009686889 | L20: =B20/B19-1 -> -1.8431863e-05 | M20: =H20 -> -0.0053655777 | N20: =L20-M20 -> 0.0053471458 | O20: =IF(N20="",O19,(1+O19)*(1+N20)-1) -> 0.015614999 | P20: =MIN(D20,0)^2 -> 3.3973359e-10 | Q20: =IF(H20="","",MIN(H20,0)^2) -> 2.8789424e-05 | R20: =-10% -> -0.1 | S20: ="" | T20: ="" | U20: =H22 -> 0.00039832066 | V20: =MIN(U20,0)^2 -> 0
A21: =IF('20230101-20261006'!A830="","",'20230101-20261006'!A830) -> 46080 | B21: =IF('20230101-20261006'!B830="","",'20230101-20261006'!B830) -> 5265451.6 | C21: =IF('20230101-20261006'!C830="","",'20230101-20261006'!C830) -> 6878.88 | D21: =IF(OR(B21="",B20=""),"",B21/B20-1) -> 0.0027979799 | E21: =IF(D21="",E20,(1+E20)*(1+D21)-1) -> 0.009947332 | F21: =MAX(F20,E21) -> 0.009947332 | G21: =(1+E21)/(1+F21)-1 -> 0 | H21: =C21/C20-1 -> -0.0043393556 | I21: =IF(H21="",I20,(1+I20)*(1+H21)-1) -> -0.01398421 | J21: =MAX(J20,I21) -> 0 | K21: =(1+I21)/(1+J21)-1 -> -0.01398421 | L21: =B21/B20-1 -> 0.0027979799 | M21: =H21 -> -0.0043393556 | N21: =L21-M21 -> 0.0071373355 | O21: =IF(N21="",O20,(1+O20)*(1+N21)-1) -> 0.022863784 | P21: =MIN(D21,0)^2 -> 0 | Q21: =IF(H21="","",MIN(H21,0)^2) -> 1.8830007e-05 | R21: =-10% -> -0.1 | S21: ="" | T21: ="" | U21: =H23 -> -0.0094439972 | V21: =MIN(U21,0)^2 -> 8.9189083e-05
A22: =IF('20230101-20261006'!A831="","",'20230101-20261006'!A831) -> 46083 | B22: =IF('20230101-20261006'!B831="","",'20230101-20261006'!B831) -> 5274918.1 | C22: =IF('20230101-20261006'!C831="","",'20230101-20261006'!C831) -> 6881.62 | D22: =IF(OR(B22="",B21=""),"",B22/B21-1) -> 0.0017978415 | E22: =IF(D22="",E21,(1+E21)*(1+D22)-1) -> 0.011763057 | F22: =MAX(F21,E22) -> 0.011763057 | G22: =(1+E22)/(1+F22)-1 -> 0 | H22: =C22/C21-1 -> 0.00039832066 | I22: =IF(H22="",I21,(1+I21)*(1+H22)-1) -> -0.013591459 | J22: =MAX(J21,I22) -> 0 | K22: =(1+I22)/(1+J22)-1 -> -0.013591459 | L22: =B22/B21-1 -> 0.0017978415 | M22: =H22 -> 0.00039832066 | N22: =L22-M22 -> 0.0013995209 | O22: =IF(N22="",O21,(1+O21)*(1+N22)-1) -> 0.024295303 | P22: =MIN(D22,0)^2 -> 0 | Q22: =IF(H22="","",MIN(H22,0)^2) -> 0 | R22: =-10% -> -0.1 | S22: =STDEV(D3:D22)*SQRT(252) -> 0.026416222 | T22: ="" | U22: =H24 -> 0.0077560319 | V22: =MIN(U22,0)^2 -> 0
A23: =IF('20230101-20261006'!A832="","",'20230101-20261006'!A832) -> 46084 | B23: =IF('20230101-20261006'!B832="","",'20230101-20261006'!B832) -> 5277275.7 | C23: =IF('20230101-20261006'!C832="","",'20230101-20261006'!C832) -> 6816.63 | D23: =IF(OR(B23="",B22=""),"",B23/B22-1) -> 0.00044695982 | E23: =IF(D23="",E22,(1+E22)*(1+D23)-1) -> 0.012215275 | F23: =MAX(F22,E23) -> 0.012215275 | G23: =(1+E23)/(1+F23)-1 -> 0 | H23: =C23/C22-1 -> -0.0094439972 | I23: =IF(H23="",I22,(1+I22)*(1+H23)-1) -> -0.022907099 | J23: =MAX(J22,I23) -> 0 | K23: =(1+I23)/(1+J23)-1 -> -0.022907099 | L23: =B23/B22-1 -> 0.00044695982 | M23: =H23 -> -0.0094439972 | N23: =L23-M23 -> 0.009890957 | O23: =IF(N23="",O22,(1+O22)*(1+N23)-1) -> 0.034426564 | P23: =MIN(D23,0)^2 -> 0 | Q23: =IF(H23="","",MIN(H23,0)^2) -> 8.9189083e-05 | R23: =-10% -> -0.1 | S23: =STDEV(D4:D23)*SQRT(252) -> 0.025511946 | T23: =STDEV(H3:H23)*SQRT(252) -> 0.13357575 | U23: =H25 -> -0.0056466992 | V23: =MIN(U23,0)^2 -> 3.1885212e-05
A24: =IF('20230101-20261006'!A833="","",'20230101-20261006'!A833) -> 46085 | B24: =IF('20230101-20261006'!B833="","",'20230101-20261006'!B833) -> 5278736 | C24: =IF('20230101-20261006'!C833="","",'20230101-20261006'!C833) -> 6869.5 | D24: =IF(OR(B24="",B23=""),"",B24/B23-1) -> 0.00027670944 | E24: =IF(D24="",E23,(1+E23)*(1+D24)-1) -> 0.012495364 | F24: =MAX(F23,E24) -> 0.012495364 | G24: =(1+E24)/(1+F24)-1 -> 0 | H24: =C24/C23-1 -> 0.0077560319 | I24: =IF(H24="",I23,(1+I23)*(1+H24)-1) -> -0.015328735 | J24: =MAX(J23,I24) -> 0 | K24: =(1+I24)/(1+J24)-1 -> -0.015328735 | L24: =B24/B23-1 -> 0.00027670944 | M24: =H24 -> 0.0077560319 | N24: =L24-M24 -> -0.0074793225 | O24: =IF(N24="",O23,(1+O23)*(1+N24)-1) -> 0.026689754 | P24: =MIN(D24,0)^2 -> 0 | Q24: =IF(H24="","",MIN(H24,0)^2) -> 0 | R24: =-10% -> -0.1 | S24: =STDEV(D5:D24)*SQRT(252) -> 0.02373201 | T24: =STDEV(H4:H24)*SQRT(252) -> 0.13421036 | U24: =H26 -> -0.013276804 | V24: =MIN(U24,0)^2 -> 0.00017627353
A25: =IF('20230101-20261006'!A834="","",'20230101-20261006'!A834) -> 46086 | B25: =IF('20230101-20261006'!B834="","",'20230101-20261006'!B834) -> 5286558.6 | C25: =IF('20230101-20261006'!C834="","",'20230101-20261006'!C834) -> 6830.71 | D25: =IF(OR(B25="",B24=""),"",B25/B24-1) -> 0.0014819093 | E25: =IF(D25="",E24,(1+E24)*(1+D25)-1) -> 0.013995791 | F25: =MAX(F24,E25) -> 0.013995791 | G25: =(1+E25)/(1+F25)-1 -> 0 | H25: =C25/C24-1 -> -0.0056466992 | I25: =IF(H25="",I24,(1+I24)*(1+H25)-1) -> -0.020888877 | J25: =MAX(J24,I25) -> 0 | K25: =(1+I25)/(1+J25)-1 -> -0.020888877 | L25: =B25/B24-1 -> 0.0014819093 | M25: =H25 -> -0.0056466992 | N25: =L25-M25 -> 0.0071286085 | O25: =IF(N25="",O24,(1+O24)*(1+N25)-1) -> 0.034008624 | P25: =MIN(D25,0)^2 -> 0 | Q25: =IF(H25="","",MIN(H25,0)^2) -> 3.1885212e-05 | R25: =-10% -> -0.1 | S25: =STDEV(D6:D25)*SQRT(252) -> 0.021863316 | T25: =STDEV(H5:H25)*SQRT(252) -> 0.13449545 | U25: =H27 -> 0.0083041297 | V25: =MIN(U25,0)^2 -> 0
A26: =IF('20230101-20261006'!A835="","",'20230101-20261006'!A835) -> 46087 | B26: =IF('20230101-20261006'!B835="","",'20230101-20261006'!B835) -> 5288583.1 | C26: =IF('20230101-20261006'!C835="","",'20230101-20261006'!C835) -> 6740.02 | D26: =IF(OR(B26="",B25=""),"",B26/B25-1) -> 0.00038294946 | E26: =IF(D26="",E25,(1+E25)*(1+D26)-1) -> 0.0143841 | F26: =MAX(F25,E26) -> 0.0143841 | G26: =(1+E26)/(1+F26)-1 -> 0 | H26: =C26/C25-1 -> -0.013276804 | I26: =IF(H26="",I25,(1+I25)*(1+H26)-1) -> -0.033888344 | J26: =MAX(J25,I26) -> 0 | K26: =(1+I26)/(1+J26)-1 -> -0.033888344 | L26: =B26/B25-1 -> 0.00038294946 | M26: =H26 -> -0.013276804 | N26: =L26-M26 -> 0.013659754 | O26: =IF(N26="",O25,(1+O25)*(1+N26)-1) -> 0.048132927 | P26: =MIN(D26,0)^2 -> 0 | Q26: =IF(H26="","",MIN(H26,0)^2) -> 0.00017627353 | R26: =-10% -> -0.1 | S26: =STDEV(D7:D26)*SQRT(252) -> 0.016125832 | T26: =STDEV(H6:H26)*SQRT(252) -> 0.13574337 | U26: =H28 -> -0.0021350826 | V26: =MIN(U26,0)^2 -> 4.5585777e-06
A27: =IF('20230101-20261006'!A836="","",'20230101-20261006'!A836) -> 46090 | B27: =IF('20230101-20261006'!B836="","",'20230101-20261006'!B836) -> 5288492.8 | C27: =IF('20230101-20261006'!C836="","",'20230101-20261006'!C836) -> 6795.99 | D27: =IF(OR(B27="",B26=""),"",B27/B26-1) -> -1.7070242e-05 | E27: =IF(D27="",E26,(1+E26)*(1+D27)-1) -> 0.014366784 | F27: =MAX(F26,E27) -> 0.0143841 | G27: =(1+E27)/(1+F27)-1 -> -1.7070242e-05 | H27: =C27/C26-1 -> 0.0083041297 | I27: =IF(H27="",I26,(1+I26)*(1+H27)-1) -> -0.025865628 | J27: =MAX(J26,I27) -> 0 | K27: =(1+I27)/(1+J27)-1 -> -0.025865628 | L27: =B27/B26-1 -> -1.7070242e-05 | M27: =H27 -> 0.0083041297 | N27: =L27-M27 -> -0.0083211999 | O27: =IF(N27="",O26,(1+O26)*(1+N27)-1) -> 0.039411203 | P27: =MIN(D27,0)^2 -> 2.9139317e-10 | Q27: =IF(H27="","",MIN(H27,0)^2) -> 0 | R27: =-10% -> -0.1 | S27: =STDEV(D8:D27)*SQRT(252) -> 0.016430399 | T27: =STDEV(H7:H27)*SQRT(252) -> 0.11827896 | U27: =H29 -> -0.00083757528 | V27: =MIN(U27,0)^2 -> 7.0153235e-07
A28: =IF('20230101-20261006'!A837="","",'20230101-20261006'!A837) -> 46091 | B28: =IF('20230101-20261006'!B837="","",'20230101-20261006'!B837) -> 5293443.8 | C28: =IF('20230101-20261006'!C837="","",'20230101-20261006'!C837) -> 6781.48 | D28: =IF(OR(B28="",B27=""),"",B28/B27-1) -> 0.00093616924 | E28: =IF(D28="",E27,(1+E27)*(1+D28)-1) -> 0.015316403 | F28: =MAX(F27,E28) -> 0.015316403 | G28: =(1+E28)/(1+F28)-1 -> 0 | H28: =C28/C27-1 -> -0.0021350826 | I28: =IF(H28="",I27,(1+I27)*(1+H28)-1) -> -0.027945485 | J28: =MAX(J27,I28) -> 0 | K28: =(1+I28)/(1+J28)-1 -> -0.027945485 | L28: =B28/B27-1 -> 0.00093616924 | M28: =H28 -> -0.0021350826 | N28: =L28-M28 -> 0.0030712518 | O28: =IF(N28="",O27,(1+O27)*(1+N28)-1) -> 0.042603497 | P28: =MIN(D28,0)^2 -> 0 | Q28: =IF(H28="","",MIN(H28,0)^2) -> 4.5585777e-06 | R28: =-10% -> -0.1 | S28: =STDEV(D9:D28)*SQRT(252) -> 0.016345356 | T28: =STDEV(H8:H28)*SQRT(252) -> 0.11641599 | U28: =H30 -> -0.015227722 | V28: =MIN(U28,0)^2 -> 0.00023188352
A29: =IF('20230101-20261006'!A838="","",'20230101-20261006'!A838) -> 46092 | B29: =IF('20230101-20261006'!B838="","",'20230101-20261006'!B838) -> 5294105.7 | C29: =IF('20230101-20261006'!C838="","",'20230101-20261006'!C838) -> 6775.8 | D29: =IF(OR(B29="",B28=""),"",B29/B28-1) -> 0.00012504618 | E29: =IF(D29="",E28,(1+E28)*(1+D29)-1) -> 0.015443364 | F29: =MAX(F28,E29) -> 0.015443364 | G29: =(1+E29)/(1+F29)-1 -> 0 | H29: =C29/C28-1 -> -0.00083757528 | I29: =IF(H29="",I28,(1+I28)*(1+H29)-1) -> -0.028759654 | J29: =MAX(J28,I29) -> 0 | K29: =(1+I29)/(1+J29)-1 -> -0.028759654 | L29: =B29/B28-1 -> 0.00012504618 | M29: =H29 -> -0.00083757528 | N29: =L29-M29 -> 0.00096262146 | O29: =IF(N29="",O28,(1+O28)*(1+N29)-1) -> 0.043607129 | P29: =MIN(D29,0)^2 -> 0 | Q29: =IF(H29="","",MIN(H29,0)^2) -> 7.0153235e-07 | R29: =-10% -> -0.1 | S29: =STDEV(D10:D29)*SQRT(252) -> 0.013988867 | T29: =STDEV(H9:H29)*SQRT(252) -> 0.11618396 | U29: =H31 -> -0.0060590892 | V29: =MIN(U29,0)^2 -> 3.6712562e-05
A30: =IF('20230101-20261006'!A839="","",'20230101-20261006'!A839) -> 46093 | B30: =IF('20230101-20261006'!B839="","",'20230101-20261006'!B839) -> 5292331.6 | C30: =IF('20230101-20261006'!C839="","",'20230101-20261006'!C839) -> 6672.62 | D30: =IF(OR(B30="",B29=""),"",B30/B29-1) -> -0.00033510571 | E30: =IF(D30="",E29,(1+E29)*(1+D30)-1) -> 0.015103083 | F30: =MAX(F29,E30) -> 0.015443364 | G30: =(1+E30)/(1+F30)-1 -> -0.00033510571 | H30: =C30/C29-1 -> -0.015227722 | I30: =IF(H30="",I29,(1+I29)*(1+H30)-1) -> -0.043549432 | J30: =MAX(J29,I30) -> 0 | K30: =(1+I30)/(1+J30)-1 -> -0.043549432 | L30: =B30/B29-1 -> -0.00033510571 | M30: =H30 -> -0.015227722 | N30: =L30-M30 -> 0.014892616 | O30: =IF(N30="",O29,(1+O29)*(1+N30)-1) -> 0.05914917 | P30: =MIN(D30,0)^2 -> 1.1229584e-07 | Q30: =IF(H30="","",MIN(H30,0)^2) -> 0.00023188352 | R30: =-10% -> -0.1 | S30: =STDEV(D11:D30)*SQRT(252) -> 0.013489033 | T30: =STDEV(H10:H30)*SQRT(252) -> 0.12627223 | U30: =H32 -> 0.010130892 | V30: =MIN(U30,0)^2 -> 0
A31: =IF('20230101-20261006'!A840="","",'20230101-20261006'!A840) -> 46094 | B31: =IF('20230101-20261006'!B840="","",'20230101-20261006'!B840) -> 5298882.7 | C31: =IF('20230101-20261006'!C840="","",'20230101-20261006'!C840) -> 6632.19 | D31: =IF(OR(B31="",B30=""),"",B31/B30-1) -> 0.0012378565 | E31: =IF(D31="",E30,(1+E30)*(1+D31)-1) -> 0.016359635 | F31: =MAX(F30,E31) -> 0.016359635 | G31: =(1+E31)/(1+F31)-1 -> 0 | H31: =C31/C30-1 -> -0.0060590892 | I31: =IF(H31="",I30,(1+I30)*(1+H31)-1) -> -0.049344651 | J31: =MAX(J30,I31) -> 0 | K31: =(1+I31)/(1+J31)-1 -> -0.049344651 | L31: =B31/B30-1 -> 0.0012378565 | M31: =H31 -> -0.0060590892 | N31: =L31-M31 -> 0.0072969457 | O31: =IF(N31="",O30,(1+O30)*(1+N31)-1) -> 0.066877724 | P31: =MIN(D31,0)^2 -> 0 | Q31: =IF(H31="","",MIN(H31,0)^2) -> 3.6712562e-05 | R31: =-10% -> -0.1 | S31: =STDEV(D12:D31)*SQRT(252) -> 0.01326242 | T31: =STDEV(H11:H31)*SQRT(252) -> 0.11667193 | U31: =H33 -> 0.0024942607 | V31: =MIN(U31,0)^2 -> 0
A32: =IF('20230101-20261006'!A841="","",'20230101-20261006'!A841) -> 46097 | B32: =IF('20230101-20261006'!B841="","",'20230101-20261006'!B841) -> 5307549.1 | C32: =IF('20230101-20261006'!C841="","",'20230101-20261006'!C841) -> 6699.38 | D32: =IF(OR(B32="",B31=""),"",B32/B31-1) -> 0.0016355107 | E32: =IF(D32="",E31,(1+E31)*(1+D32)-1) -> 0.018021902 | F32: =MAX(F31,E32) -> 0.018021902 | G32: =(1+E32)/(1+F32)-1 -> 0 | H32: =C32/C31-1 -> 0.010130892 | I32: =IF(H32="",I31,(1+I31)*(1+H32)-1) -> -0.039713665 | J32: =MAX(J31,I32) -> 0 | K32: =(1+I32)/(1+J32)-1 -> -0.039713665 | L32: =B32/B31-1 -> 0.0016355107 | M32: =H32 -> 0.010130892 | N32: =L32-M32 -> -0.0084953812 | O32: =IF(N32="",O31,(1+O31)*(1+N32)-1) -> 0.057814191 | P32: =MIN(D32,0)^2 -> 0 | Q32: =IF(H32="","",MIN(H32,0)^2) -> 0 | R32: =-10% -> -0.1 | S32: =STDEV(D13:D32)*SQRT(252) -> 0.013377931 | T32: =STDEV(H13:H32)*SQRT(252) -> 0.12362254 | U32: =H34 -> -0.01360762 | V32: =MIN(U32,0)^2 -> 0.00018516732
A33: =IF('20230101-20261006'!A842="","",'20230101-20261006'!A842) -> 46098 | B33: =IF('20230101-20261006'!B842="","",'20230101-20261006'!B842) -> 5320605.6 | C33: =IF('20230101-20261006'!C842="","",'20230101-20261006'!C842) -> 6716.09 | D33: =IF(OR(B33="",B32=""),"",B33/B32-1) -> 0.0024599754 | E33: =IF(D33="",E32,(1+E32)*(1+D33)-1) -> 0.020526211 | F33: =MAX(F32,E33) -> 0.020526211 | G33: =(1+E33)/(1+F33)-1 -> 0 | H33: =C33/C32-1 -> 0.0024942607 | I33: =IF(H33="",I32,(1+I32)*(1+H33)-1) -> -0.03731846 | J33: =MAX(J32,I33) -> 0 | K33: =(1+I33)/(1+J33)-1 -> -0.03731846 | L33: =B33/B32-1 -> 0.0024599754 | M33: =H33 -> 0.0024942607 | N33: =L33-M33 -> -3.4285288e-05 | O33: =IF(N33="",O32,(1+O32)*(1+N33)-1) -> 0.057777923 | P33: =MIN(D33,0)^2 -> 0 | Q33: =IF(H33="","",MIN(H33,0)^2) -> 0 | R33: =-10% -> -0.1 | S33: =STDEV(D14:D33)*SQRT(252) -> 0.014457626 | T33: =STDEV(H14:H33)*SQRT(252) -> 0.12404677 | U33: =H35 -> -0.0027488037 | V33: =MIN(U33,0)^2 -> 7.5559219e-06
A34: =IF('20230101-20261006'!A843="","",'20230101-20261006'!A843) -> 46099 | B34: =IF('20230101-20261006'!B843="","",'20230101-20261006'!B843) -> 5319519.1 | C34: =IF('20230101-20261006'!C843="","",'20230101-20261006'!C843) -> 6624.7 | D34: =IF(OR(B34="",B33=""),"",B34/B33-1) -> -0.00020419567 | E34: =IF(D34="",E33,(1+E33)*(1+D34)-1) -> 0.020317824 | F34: =MAX(F33,E34) -> 0.020526211 | G34: =(1+E34)/(1+F34)-1 -> -0.00020419567 | H34: =C34/C33-1 -> -0.01360762 | I34: =IF(H34="",I33,(1+I33)*(1+H34)-1) -> -0.050418265 | J34: =MAX(J33,I34) -> 0 | K34: =(1+I34)/(1+J34)-1 -> -0.050418265 | L34: =B34/B33-1 -> -0.00020419567 | M34: =H34 -> -0.01360762 | N34: =L34-M34 -> 0.013403424 | O34: =IF(N34="",O33,(1+O33)*(1+N34)-1) -> 0.07195577 | P34: =MIN(D34,0)^2 -> 4.1695873e-08 | Q34: =IF(H34="","",MIN(H34,0)^2) -> 0.00018516732 | R34: =-10% -> -0.1 | S34: =STDEV(D15:D34)*SQRT(252) -> 0.014930707 | T34: =STDEV(H15:H34)*SQRT(252) -> 0.12933261 | U34: =H36 -> -0.015138144 | V34: =MIN(U34,0)^2 -> 0.00022916342
A35: =IF('20230101-20261006'!A844="","",'20230101-20261006'!A844) -> 46100 | B35: =IF('20230101-20261006'!B844="","",'20230101-20261006'!B844) -> 5340313 | C35: =IF('20230101-20261006'!C844="","",'20230101-20261006'!C844) -> 6606.49 | D35: =IF(OR(B35="",B34=""),"",B35/B34-1) -> 0.0039089856 | E35: =IF(D35="",E34,(1+E34)*(1+D35)-1) -> 0.024306232 | F35: =MAX(F34,E35) -> 0.024306232 | G35: =(1+E35)/(1+F35)-1 -> 0 | H35: =C35/C34-1 -> -0.0027488037 | I35: =IF(H35="",I34,(1+I34)*(1+H35)-1) -> -0.053028479 | J35: =MAX(J34,I35) -> 0 | K35: =(1+I35)/(1+J35)-1 -> -0.053028479 | L35: =B35/B34-1 -> 0.0039089856 | M35: =H35 -> -0.0027488037 | N35: =L35-M35 -> 0.0066577893 | O35: =IF(N35="",O34,(1+O34)*(1+N35)-1) -> 0.079092625 | P35: =MIN(D35,0)^2 -> 0 | Q35: =IF(H35="","",MIN(H35,0)^2) -> 7.5559219e-06 | R35: =-10% -> -0.1 | S35: =STDEV(D16:D35)*SQRT(252) -> 0.018512533 | T35: =STDEV(H16:H35)*SQRT(252) -> 0.12932568 | U35: =H37 -> 0.011453197 | V35: =MIN(U35,0)^2 -> 0
A36: =IF('20230101-20261006'!A845="","",'20230101-20261006'!A845) -> 46101 | B36: =IF('20230101-20261006'!B845="","",'20230101-20261006'!B845) -> 5351851.5 | C36: =IF('20230101-20261006'!C845="","",'20230101-20261006'!C845) -> 6506.48 | D36: =IF(OR(B36="",B35=""),"",B36/B35-1) -> 0.0021606319 | E36: =IF(D36="",E35,(1+E35)*(1+D36)-1) -> 0.026519381 | F36: =MAX(F35,E36) -> 0.026519381 | G36: =(1+E36)/(1+F36)-1 -> 0 | H36: =C36/C35-1 -> -0.015138144 | I36: =IF(H36="",I35,(1+I35)*(1+H36)-1) -> -0.06736387 | J36: =MAX(J35,I36) -> 0 | K36: =(1+I36)/(1+J36)-1 -> -0.06736387 | L36: =B36/B35-1 -> 0.0021606319 | M36: =H36 -> -0.015138144 | N36: =L36-M36 -> 0.017298776 | O36: =IF(N36="",O35,(1+O35)*(1+N36)-1) -> 0.097759607 | P36: =MIN(D36,0)^2 -> 0 | Q36: =IF(H36="","",MIN(H36,0)^2) -> 0.00022916342 | R36: =-10% -> -0.1 | S36: =STDEV(D17:D36)*SQRT(252) -> 0.018605067 | T36: =STDEV(H17:H36)*SQRT(252) -> 0.13308426 | U36: =H38 -> -0.0037425923 | V36: =MIN(U36,0)^2 -> 1.4006997e-05
A37: =IF('20230101-20261006'!A846="","",'20230101-20261006'!A846) -> 46104 | B37: =IF('20230101-20261006'!B846="","",'20230101-20261006'!B846) -> 5347264.1 | C37: =IF('20230101-20261006'!C846="","",'20230101-20261006'!C846) -> 6581 | D37: =IF(OR(B37="",B36=""),"",B37/B36-1) -> -0.00085715598 | E37: =IF(D37="",E36,(1+E36)*(1+D37)-1) -> 0.025639493 | F37: =MAX(F36,E37) -> 0.026519381 | G37: =(1+E37)/(1+F37)-1 -> -0.00085715598 | H37: =C37/C36-1 -> 0.011453197 | I37: =IF(H37="",I36,(1+I36)*(1+H37)-1) -> -0.056682205 | J37: =MAX(J36,I37) -> 0 | K37: =(1+I37)/(1+J37)-1 -> -0.056682205 | L37: =B37/B36-1 -> -0.00085715598 | M37: =H37 -> 0.011453197 | N37: =L37-M37 -> -0.012310353 | O37: =IF(N37="",O36,(1+O36)*(1+N37)-1) -> 0.084245799 | P37: =MIN(D37,0)^2 -> 7.3471638e-07 | Q37: =IF(H37="","",MIN(H37,0)^2) -> 0 | R37: =-10% -> -0.1 | S37: =STDEV(D18:D37)*SQRT(252) -> 0.019583365 | T37: =STDEV(H18:H37)*SQRT(252) -> 0.13936699 | U37: =H39 -> 0.0054191572 | V37: =MIN(U37,0)^2 -> 0
A38: =IF('20230101-20261006'!A847="","",'20230101-20261006'!A847) -> 46105 | B38: =IF('20230101-20261006'!B847="","",'20230101-20261006'!B847) -> 5355207.4 | C38: =IF('20230101-20261006'!C847="","",'20230101-20261006'!C847) -> 6556.37 | D38: =IF(OR(B38="",B37=""),"",B38/B37-1) -> 0.0014854772 | E38: =IF(D38="",E37,(1+E37)*(1+D38)-1) -> 0.027163057 | F38: =MAX(F37,E38) -> 0.027163057 | G38: =(1+E38)/(1+F38)-1 -> 0 | H38: =C38/C37-1 -> -0.0037425923 | I38: =IF(H38="",I37,(1+I37)*(1+H38)-1) -> -0.060212659 | J38: =MAX(J37,I38) -> 0 | K38: =(1+I38)/(1+J38)-1 -> -0.060212659 | L38: =B38/B37-1 -> 0.0014854772 | M38: =H38 -> -0.0037425923 | N38: =L38-M38 -> 0.0052280695 | O38: =IF(N38="",O37,(1+O37)*(1+N38)-1) -> 0.089914311 | P38: =MIN(D38,0)^2 -> 0 | Q38: =IF(H38="","",MIN(H38,0)^2) -> 1.4006997e-05 | R38: =-10% -> -0.1 | S38: =STDEV(D19:D38)*SQRT(252) -> 0.019673656 | T38: =STDEV(H19:H38)*SQRT(252) -> 0.13483165 | U38: =H40 -> -0.017406211 | V38: =MIN(U38,0)^2 -> 0.00030297617
A39: =IF('20230101-20261006'!A848="","",'20230101-20261006'!A848) -> 46106 | B39: =IF('20230101-20261006'!B848="","",'20230101-20261006'!B848) -> 5360237.4 | C39: =IF('20230101-20261006'!C848="","",'20230101-20261006'!C848) -> 6591.9 | D39: =IF(OR(B39="",B38=""),"",B39/B38-1) -> 0.00093928473 | E39: =IF(D39="",E38,(1+E38)*(1+D39)-1) -> 0.028127856 | F39: =MAX(F38,E39) -> 0.028127856 | G39: =(1+E39)/(1+F39)-1 -> 0 | H39: =C39/C38-1 -> 0.0054191572 | I39: =IF(H39="",I38,(1+I38)*(1+H39)-1) -> -0.055119803 | J39: =MAX(J38,I39) -> 0 | K39: =(1+I39)/(1+J39)-1 -> -0.055119803 | L39: =B39/B38-1 -> 0.00093928473 | M39: =H39 -> 0.0054191572 | N39: =L39-M39 -> -0.0044798725 | O39: =IF(N39="",O38,(1+O38)*(1+N39)-1) -> 0.085031634 | P39: =MIN(D39,0)^2 -> 0 | Q39: =IF(H39="","",MIN(H39,0)^2) -> 0 | R39: =-10% -> -0.1 | S39: =STDEV(D20:D39)*SQRT(252) -> 0.019082175 | T39: =STDEV(H20:H39)*SQRT(252) -> 0.13232515 | U39: =H41 -> -0.016721835 | V39: =MIN(U39,0)^2 -> 0.00027961976
A40: =IF('20230101-20261006'!A849="","",'20230101-20261006'!A849) -> 46107 | B40: =IF('20230101-20261006'!B849="","",'20230101-20261006'!B849) -> 5365915.7 | C40: =IF('20230101-20261006'!C849="","",'20230101-20261006'!C849) -> 6477.16 | D40: =IF(OR(B40="",B39=""),"",B40/B39-1) -> 0.0010593396 | E40: =IF(D40="",E39,(1+E39)*(1+D40)-1) -> 0.029216993 | F40: =MAX(F39,E40) -> 0.029216993 | G40: =(1+E40)/(1+F40)-1 -> 0 | H40: =C40/C39-1 -> -0.017406211 | I40: =IF(H40="",I39,(1+I39)*(1+H40)-1) -> -0.071566587 | J40: =MAX(J39,I40) -> 0 | K40: =(1+I40)/(1+J40)-1 -> -0.071566587 | L40: =B40/B39-1 -> 0.0010593396 | M40: =H40 -> -0.017406211 | N40: =L40-M40 -> 0.01846555 | O40: =IF(N40="",O39,(1+O39)*(1+N40)-1) -> 0.10506734 | P40: =MIN(D40,0)^2 -> 0 | Q40: =IF(H40="","",MIN(H40,0)^2) -> 0.00030297617 | R40: =-10% -> -0.1 | S40: =STDEV(D21:D40)*SQRT(252) -> 0.018674379 | T40: =STDEV(H21:H40)*SQRT(252) -> 0.14221863 | U40: =H42 -> -0.0039457673 | V40: =MIN(U40,0)^2 -> 1.556908e-05
...

Sheet 2026 Drawdowns
A1: Portfolio | B1: Rank | C1: Peak Date | D1: Trough Date | E1: Recovery Date | F1: Max Drawdown | G1: Peak-to-Trough Days | H1: Trough-to-Recovery Days | I1: Total Underwater Days | J1: Status
A2: SDC | B2: 1 | C2: 46181 | D2: 46185 | E2: 46245 | F2: -0.020101227 | G2: 4 | H2: 60 | I2: 64 | J2: Recovered
A3: SDC | B3: 2 | C3: 46128 | D3: 46133 | E3: 46136 | F3: -0.0081212393 | G3: 5 | H3: 3 | I3: 8 | J3: Recovered
A4: SDC | B4: 3 | C4: 46141 | D4: 46148 | E4: 46162 | F4: -0.0052545438 | G4: 7 | H4: 14 | I4: 21 | J4: Recovered
A5: SDC | B5: 4 | C5: 46058 | D5: 46059 | E5: 46064 | F5: -0.003295987 | G5: 1 | H5: 5 | I5: 6 | J5: Recovered
A6: SDC | B6: 5 | C6: 46055 | D6: 46057 | E6: 46058 | F6: -0.0031430712 | G6: 2 | H6: 1 | I6: 3 | J6: Recovered
A7: SDC | B7: 6 | C7: 46169 | D7: 46170 | E7: 46175 | F7: -0.0031289575 | G7: 1 | H7: 5 | I7: 6 | J7: Recovered
A8: SDC | B8: 7 | C8: 46294 | D8: 46296 | F8: -0.0023207461 | G8: 2 | I8: 6 | J8: Ongoing
A9: SDC | B9: 8 | C9: 46289 | D9: 46290 | E9: 46294 | F9: -0.0021385248 | G9: 1 | H9: 4 | I9: 5 | J9: Recovered
A10: SDC | B10: 9 | C10: 46265 | D10: 46268 | E10: 46269 | F10: -0.0020963649 | G10: 3 | H10: 1 | I10: 4 | J10: Recovered
A11: SDC | B11: 10 | C11: 46246 | D11: 46247 | E11: 46248 | F11: -0.0010987037 | G11: 1 | H11: 1 | I11: 2 | J11: Recovered
A12: S&P 500 | B12: 1 | C12: 46055 | D12: 46111 | E12: 46127 | F12: -0.090693821 | G12: 56 | H12: 16 | I12: 72 | J12: Recovered
A13: S&P 500 | B13: 2 | C13: 46175 | D13: 46183 | E13: 46238 | F13: -0.04504598 | G13: 8 | H13: 55 | I13: 63 | J13: Recovered
A14: S&P 500 | B14: 3 | C14: 46247 | D14: 46281 | F14: -0.031693848 | G14: 34 | I14: 53 | J14: Ongoing
A15: S&P 500 | B15: 4 | C15: 46156 | D15: 46161 | E15: 46168 | F15: -0.019680746 | G15: 5 | H15: 7 | I15: 12 | J15: Recovered
A16: S&P 500 | B16: 5 | C16: 46129 | D16: 46133 | E16: 46134 | F16: -0.0087074765 | G16: 4 | H16: 1 | I16: 5 | J16: Recovered
A17: S&P 500 | B17: 6 | C17: 46139 | D17: 46141 | E17: 46142 | F17: -0.0052913962 | G17: 2 | H17: 1 | I17: 3 | J17: Recovered
A18: S&P 500 | B18: 7 | C18: 46134 | D18: 46135 | E18: 46136 | F18: -0.0041328682 | G18: 1 | H18: 1 | I18: 2 | J18: Recovered
A19: S&P 500 | B19: 8 | C19: 46143 | D19: 46146 | E19: 46147 | F19: -0.0040621732 | G19: 3 | H19: 1 | I19: 4 | J19: Recovered
A20: S&P 500 | B20: 9 | C20: 46148 | D20: 46149 | E20: 46150 | F20: -0.0038030609 | G20: 1 | H20: 1 | I20: 2 | J20: Recovered
A21: S&P 500 | B21: 10 | C21: 46241 | D21: 46245 | E21: 46247 | F21: -0.0037949686 | G21: 4 | H21: 2 | I21: 6 | J21: Recovered

Sheet 2026 Monthly Returns
A1: Month | B1: SDC Return | C1: S&P 500 Return | D1: SDC - S&P
A2: 2026-02 | B2: 0.009947332 | C2: -0.01398421 | D2: 0.023931542
A3: 2026-03 | B3: 0.025626185 | C3: -0.05093271 | D3: 0.076558895
A4: 2026-04 | B4: 0.017832063 | C4: 0.10423343 | D4: -0.086401362
A5: 2026-05 | B5: 0.006353165 | C5: 0.051470313 | D5: -0.045117148
A6: 2026-06 | B6: -0.0097446567 | C6: -0.010646354 | D6: 0.00090169701
A7: 2026-07 | B7: 0.010989894 | C7: -0.001285443 | D7: 0.012275337
A8: 2026-08 | B8: 0.02412029 | C8: 0.026225279 | D8: -0.0021049894
A9: 2026-09 | B9: 0.011992677 | C9: -0.0045016094 | D9: 0.016494286
A10: 2026-10 | B10: -0.00057260031 | C10: 0.015998087 | D10: -0.016570687

Sheet Performance Summary
A1: Performance Comparison — NAV vs S&P 500
A3: Methodology / Assumptions
A4: Analysis period | B4: 44925 | C4: 46300
A5: Annualization | B5: 252 | C5: trading days
A6: Risk-free rate | B6: 0 | D6: Sharpe, alpha and Treynor use 0% risk-free rate.
A7: 2026-02-02 | D7: NAV return excluded because of HK$2m capital injection.
A8: 2025-05-30 to 2025-06-03 | D8: NAV returns excluded because NAV/Total cross zero during an apparent external-flow/data discontinuity. Raw source is preserved.
A9: Duplicate dates | B9: 3 | D9: Identical overlapping rows removed in Analysis Data/statistics.
A11: Portfolio Performance Statistics
A12: Metric | B12: NAV | C12: S&P 500 | D12: Notes
A13: Observations | B13: 977 | C13: 942 | D13: Return observations used
A14: Total Return | B14: 0.39281757 | C14: 1.0247298 | D14: Chain-linked cumulative return
A15: CAGR | B15: 0.092002271 | C15: 0.20609699 | D15: Geometric annualized return
A16: Annualized Arithmetic Return | B16: 0.086662247 | C16: 0.19951915 | D16: Average daily return × 252
A17: Annualized Volatility | B17: 0.048601092 | C17: 0.14682012 | D17: Daily standard deviation × √252
A18: Sharpe Ratio (Rf=0%) | B18: 1.7831337 | C18: 1.358936 | D18: Annualized, 0% risk-free rate
A19: Sortino Ratio (MAR=0%) | B19: 2.2260059 | C19: 2.0267108 | D19: Uses downside deviation only
A20: Downside Deviation (Ann.) | B20: 0.038931723 | C20: 0.098444805 | D20: Annualized downside deviation
A21: Max Drawdown | B21: -0.062788099 | C21: -0.18902208 | D21: Largest peak-to-trough loss
A22: Calmar Ratio | B22: 1.465282 | C22: 1.0903329 | D22: CAGR ÷ |Max Drawdown|
A23: Ulcer Index | B23: 0.023006655 | C23: 0.033764361 | D23: RMS drawdown; lower is better
A24: Martin Ratio | B24: 3.9989416 | C24: 6.1039802 | D24: CAGR ÷ Ulcer Index
... A26: Pain Ratio | B26: 6.0776329 | C26: 10.110459 | D26: CAGR ÷ Pain Index
A27: Average Daily Return | B27: 0.00034389781 | C27: 0.00079174264
A28: Median Daily Return | B28: 0.00059343721 | C28: 0.00090523781
A29: Best Daily Return | B29: 0.020890719 | C29: 0.0951539
A30: Worst Daily Return | B30: -0.037147628 | C30: -0.059749616
A31: Positive Days % | B31: 0.66018424 | C31: 0.5552017
A32: Negative Days % | B32: 0.33162743 | C32: 0.4447983
A33: Avg Up Day | B33: 0.0016314204 | C33: 0.0065936958
A34: Avg Down Day | B34: -0.0022107346 | C34: -0.0064503134
A35: Gain/Loss Ratio | B35: 0.73795399 | C35: 1.0222287 | D35: Average gain ÷ average loss magnitude
A36: Profit Factor | B36: 1.4690751 | C36: 1.2759562 | D36: Sum of gains ÷ sum of losses
A37: Skewness | B37: -3.2064468 | C37: 0.4896647 | D37: Return distribution skew
A38: Excess Kurtosis | B38: 34.427734 | C38: 14.162123 | D38: Fat-tail measure vs normal distribution
A39: Historical VaR 95% (Daily) | B39: 0.0037075547 | C39: 0.014472375 | D39: Historical one-day loss threshold
A40: Historical CVaR 95% (Daily) | B40: 0.0085081062 | C40: 0.02012072 | D40: Average loss in worst 5% of days
A41: Historical VaR 99% (Daily) | B41: 0.010504294 | C41: 0.022845384 | D41: Historical one-day loss threshold
A42: Historical CVaR 99% (Daily) | B42: 0.017427899 | C42: 0.032946111 | D42: Average loss in worst 1% of days
A43: Tail Ratio (95/5) | B43: 0.93844014 | C43: 1.0022375 | D43: 95th percentile gain ÷ |5th percentile loss|
...

Sheet Analysis Data
A1: ReportDate | B1: NAV | C1: S&P 500 Close | D1: NAV Daily Return (Adj.) | E1: NAV Cumulative Return (Adj.) | F1: NAV Drawdown | G1: S&P 500 Daily Return | H1: S&P 500 Cumulative Return | I1: S&P 500 Drawdown | J1: Adjustment / Note
A2: 44925 | B2: 2533066.8 | C2: 3839.5 | E2: 0 | F2: 0 | H2: 0 | I2: 0
A3: 44928 | B3: 2533066.8 | D3: 6.1752969e-09 | E3: 6.1752969e-09 | F3: 0 | H3: 0 | I3: 0
A4: 44929 | B4: 2537809.5 | C4: 3824.14 | D4: 0.001872314 | E4: 0.0018723202 | F4: 0 | G4: -0.0040005209 | H4: -0.0040005209 | I4: -0.0040005209
A5: 44930 | B5: 2544705.7 | C5: 3852.97 | D5: 0.0027173961 | E5: 0.0045948041 | F5: 0 | G5: 0.0075389499 | H5: 0.0035082693 | I5: 0
A6: 44931 | B6: 2540339.3 | C6: 3808.1 | D6: -0.0017159106 | E6: 0.0028710092 | F6: -0.0017159106 | G6: -0.011645562 | H6: -0.0081781482 | I6: -0.011645562
A7: 44932 | B7: 2543333 | C7: 3895.08 | D7: 0.0011784774 | E7: 0.0040528701 | F7: -0.00053945532 | G7: 0.022840787 | H7: 0.014475843 | I7: 0
A8: 44935 | B8: 2540522.5 | C8: 3892.09 | D8: -0.0011050267 | E8: 0.0029433648 | F8: -0.0016438859 | G8: -0.00076763507 | H8: 0.013697096 | I8: -0.00076763507
A9: 44936 | B9: 2544599.7 | C9: 3919.25 | D9: 0.0016048691 | E9: 0.0045529577 | F9: -4.165501e-05 | G9: 0.0069782559 | H9: 0.020770934 | I9: 0
A10: 44937 | B10: 2547699.2 | C10: 3969.61 | D10: 0.0012180594 | E10: 0.0057765629 | F10: 0 | G10: 0.012849397 | H10: 0.033887225 | I10: 0
A11: 44938 | B11: 2549929 | C11: 3983.17 | D11: 0.00087521078 | E11: 0.0066568294 | F11: 0 | G11: 0.0034159527 | H11: 0.037418935 | I11: 0
A12: 44939 | B12: 2547374.6 | C12: 3999.09 | D12: -0.0010017451 | E12: 0.0056484158 | F12: -0.0010017451 | G12: 0.0039968166 | H12: 0.041565308 | I12: 0
A13: 44942 | B13: 2547580 | D13: 8.0616233e-05 | E13: 0.0057294874 | F13: -0.00092120962 | H13: 0.041565308 | I13: 0
A14: 44943 | B14: 2552529.7 | C14: 3990.97 | D14: 0.0019429128 | E14: 0.0076835321 | F14: 0 | G14: -0.0020304619 | H14: 0.039450449 | I14: -0.0020304619
A15: 44944 | B15: 2552252.8 | C15: 3928.86 | D15: -0.00010849022 | E15: 0.0075742083 | F15: -0.00010849022 | G15: -0.015562633 | H15: 0.023273864 | I15: -0.017561495
A16: 44945 | B16: 2558462.3 | C16: 3898.85 | D16: 0.0024329377 | E16: 0.010025574 | F16: 0 | G16: -0.007638348 | H16: 0.015457742 | I16: -0.025065702
A17: 44946 | B17: 2551059.8 | C17: 3972.61 | D17: -0.0028933118 | E17: 0.0071032547 | F17: -0.0028933118 | G17: 0.018918399 | H17: 0.034668577 | I17: -0.0066215064
A18: 44949 | B18: 2560234.3 | C18: 4019.81 | D18: 0.0035963217 | E18: 0.010725122 | F18: 0 | G18: 0.011881358 | H18: 0.046961844 | I18: 0
A19: 44950 | B19: 2580907.8 | C19: 4016.95 | D19: 0.0080748686 | E19: 0.018886594 | F19: 0 | G19: -0.00071147641 | H19: 0.046216955 | I19: -0.00071147641
A20: 44951 | B20: 2585394.8 | C20: 4016.22 | D20: 0.0017385133 | E20: 0.020657942 | F20: 0 | G20: -0.00018172992 | H20: 0.046026826 | I20: -0.00089307704
A21: 44952 | B21: 2583328.6 | C21: 4060.43 | D21: -0.00079915972 | E21: 0.019842274 | F21: -0.00079915972 | G21: 0.011007863 | H21: 0.057541347 | I21: 0
A22: 44953 | B22: 2583194 | C22: 4070.56 | D22: -5.2122089e-05 | E22: 0.019789117 | F22: -0.00085124016 | G22: 0.0024948097 | H22: 0.060179711 | I22: 0
A23: 44956 | B23: 2580539.3 | C23: 4017.77 | D23: -0.0010276489 | E23: 0.018741132 | F23: -0.0018780142 | G23: -0.012968732 | H23: 0.046430525 | I23: -0.012968732
A24: 44957 | B24: 2586940.9 | C24: 4076.6 | D24: 0.0024807034 | E24: 0.021268327 | F24: 0 | G24: 0.014642451 | H24: 0.061752832 | I24: 0
A25: 44958 | B25: 2589138.6 | C25: 4119.21 | D25: 0.0008495383 | E25: 0.022135933 | F25: 0 | G25: 0.010452338 | H25: 0.072850632 | I25: 0
... A37: 44974 | B37: 2591223.7 | C37: 4079.09 | D37: 0.0050771919 | E37: 0.022959083 | F37: -0.0057995358 | G37: -0.0027674487 | H37: 0.062401354 | I37: -0.024085115
A38: 44977 | B38: 2590952.1 | D38: -0.00010479574 | E38: 0.022851881 | F38: -0.0059037238 | H38: 0.062401354 | I38: -0.024085115
A39: 44978 | B39: 2591861 | C39: 3997.34 | D39: 0.0003507868 | E39: 0.023210684 | F39: -0.0055550079 | G39: -0.020041235 | H39: 0.041109519 | I39: -0.043643654
A40: 44979 | B40: 2594339.8 | C40: 3991.05 | D40: 0.00095635366 | E40: 0.024189235 | F40: -0.0046039668 | G40: -0.0015735464 | H40: 0.039471285 | I40: -0.045148525
A41: 44980 | B41: 2597643.6 | C41: 4012.32 | D41: 0.001273477 | E41: 0.025493517 | F41: -0.0033363528 | G41: 0.0053294246 | H41: 0.045011069 | I41: -0.040059716
A42: 44981 | B42: 2597973.3 | C42: 3970.04 | D42: 0.00012693569 | E42: 0.025623689 | F42: -0.0032098407 | G42: -0.010537544 | H42: 0.033999219 | I42: -0.05017513
A43: 44984 | B43: 2608857.7 | C43: 3982.24 | D43: 0.0041895577 | E43: 0.029920598 | F43: 0 | G43: 0.0030730169 | H43: 0.037176716 | I43: -0.047256302
A44: 44985 | B44: 2603608.4 | C44: 3970.15 | D44: -0.0020121001 | E44: 0.027848295 | F44: -0.0020121001 | G44: -0.0030359798 | H44: 0.034027868 | I44: -0.050148812
A45: 44986 | B45: 2604752.1 | C45: 3951.39 | D45: 0.00043929552 | E45: 0.028299824 | F45: -0.0015736885 | G45: -0.0047252623 | H45: 0.029141815 | I45: -0.054637108
A46: 44987 | B46: 2608769.1 | C46: 3981.35 | D46: 0.0015421462 | E46: 0.029885613 | F46: -3.3969204e-05 | G46: 0.007582142 | H46: 0.036944915 | I46: -0.047469233
A47: 44988 | B47: 2615883.1 | C47: 4045.64 | D47: 0.0027269584 | E47: 0.032694068 | F47: 0 | G47: 0.016147789 | H47: 0.053689282 | I47: -0.032087967
A48: 44991 | B48: 2620090.8 | C48: 4048.42 | D48: 0.0016085316 | E48: 0.034355189 | F48: 0 | G48: 0.00068715951 | H48: 0.054413335 | I48: -0.031422857
A49: 44992 | B49: 2614823.2 | C49: 3986.37 | D49: -0.0020104614 | E49: 0.032275658 | F49: -0.0020104614 | G49: -0.015326967 | H49: 0.038252377 | I49: -0.046268207
A50: 44993 | B50: 2619003.6 | C50: 3992.01 | D50: 0.0015987189 | E50: 0.033925976 | F50: -0.00041495664 | G50: 0.001414821 | H50: 0.039721318 | I50: -0.044918847
... A71: 45022 | B71: 2594976.1 | C71: 4105.02 | D71: -0.00020269518 | E71: 0.024440442 | F71: -0.0095854378 | G71: 0.0035791296 | H71: 0.069154838 | I71: -0.017881409
...

Sheet Drawdown Episodes
A1: Portfolio | B1: Rank | C1: Peak Date | D1: Trough Date | E1: Recovery Date | F1: Max Drawdown | G1: Peak-to-Trough Days | H1: Trough-to-Recovery Days | I1: Total Underwater Days
A2: NAV | B2: 1 | C2: 45636 | D2: 45846 | E2: 45961 | F2: -0.062788099 | G2: 210 | H2: 115 | I2: 325
A3: NAV | B3: 2 | C3: 45279 | D3: 45280 | E3: 45373 | F3: -0.037147628 | G3: 1 | H3: 93 | I3: 94
A4: NAV | B4: 3 | C4: 45385 | D4: 45512 | E4: 45560 | F4: -0.033208527 | G4: 127 | H4: 48 | I4: 175
A5: NAV | B5: 4 | C5: 45133 | D5: 45163 | E5: 45208 | F5: -0.028323002 | G5: 30 | H5: 45 | I5: 75
A6: NAV | B6: 5 | C6: 46181 | D6: 46185 | E6: 46245 | F6: -0.020101227 | G6: 4 | H6: 60 | I6: 64
A7: NAV | B7: 6 | C7: 44991 | D7: 45000 | E7: 45036 | F7: -0.015541059 | G7: 9 | H7: 36 | I7: 45
A8: NAV | B8: 7 | C8: 44967 | D8: 44973 | E8: 44984 | F8: -0.010821783 | G8: 6 | H8: 11 | I8: 17
A9: NAV | B9: 8 | C9: 46051 | D9: 46057 | E9: 46080 | F9: -0.010790836 | G9: 6 | H9: 23 | I9: 29
A10: NAV | B10: 9 | C10: 46000 | D10: 46007 | E10: 46036 | F10: -0.0085643044 | G10: 7 | H10: 29 | I10: 36
A11: NAV | B11: 10 | C11: 46128 | D11: 46133 | E11: 46136 | F11: -0.0081212393 | G11: 5 | H11: 3 | I11: 8
A12: S&P 500 | B12: 1 | C12: 45707 | D12: 45755 | E12: 45835 | F12: -0.18902208 | G12: 48 | H12: 80 | I12: 128
A13: S&P 500 | B13: 2 | C13: 45138 | D13: 45226 | E13: 45261 | F13: -0.1027662 | G13: 88 | H13: 35 | I13: 123
... A20: S&P 500 | B20: 9 | C20: 45632 | D20: 45667 | E20: 45680 | F20: -0.043221401 | G20: 35 | H20: 13 | I20: 48
A21: S&P 500 | B21: 10 | C21: 46247 | D21: 46281 | F21: -0.031693848 | G21: 34 | I21: 53

Sheet Calendar Returns
A1: Calendar Year | B1: NAV Return (Adj.) | C1: S&P 500 Return | D1: NAV Ann. Volatility | E1: S&P 500 Ann. Volatility | F1: NAV Max Drawdown | G1: S&P 500 Max Drawdown
A2: 2023 | B2: 0.13835855 | C2: 0.24230499 | D2: 0.058460548 | E2: 0.13092851 | F2: -0.037147628 | G2: -0.1027662
A3: 2024 | B3: 0.070923336 | C3: 0.23309007 | D3: 0.052347388 | E3: 0.12649795 | F3: -0.033208527 | G3: -0.084851426
A4: 2025 | B4: 0.031897218 | C4: 0.16387804 | D4: 0.044203999 | E4: 0.18752675 | F4: -0.044200306 | G4: -0.18902208
A5: 2026 YTD | B5: 0.10718538 | C5: 0.13562925 | D5: 0.031631576 | E5: 0.13094609 | F5: -0.020101227 | G5: -0.090975267

Sheet 2026 Charts
A1: SPX Defensive Carry (SDC) — 2026 Mature-Regime Charts
